BEGIN:VCALENDAR
VERSION:2.0
PRODID:-//Jazzclub Leipzig e.V. //NONSGML Events //EN
CALSCALE:GREGORIAN
X-WR-CALNAME:Jazzclub Leipzig e.V.
BEGIN:VEVENT
X-CREATED:20241127T101712Z
UID:34470
DTEND;VALUE=DATE:20250124T223000
DTSTART;VALUE=DATE:20250124T203000
DTSTAMP:20260419T172430Z
LOCATION:naTo
DESCRIPTION:Das Rainald Brederling Quintett formte sich im Sommer 2018 in Weimar. Ganz auf der Höhe der Zeit, begab die Band sich bereits mit der Gründung auf eine Suche nach sich selbst – beziehungsweise nach Rainald. Denn der ist verschwunden. Und so ist das Quintett streng genommen ein Quartett – was der Faszination der Band aber keinen Abbruch tut, im Gegenteil!
SUMMARY:Rainald Brederling Quintett
ORGANIZER:Jazzclub Leipzig e.V.
URL;VALUE=URI:https://www.jazzclub-leipzig.de/kategorie-jazzkalender/rainald-brederling-quintett-5/
TRANSP:OPAQUE
BEGIN:VALARM
ACTION:DISPLAY
TRIGGER;VALUE=DATE-TIME:20250124T193000Z
DESCRIPTION:Erinnerung an Rainald Brederling Quintett
END:VALARM
END:VEVENT
END:VCALENDAR
