BEGIN:VCALENDAR
VERSION:2.0
PRODID:-//Jazzclub Leipzig e.V. //NONSGML Events //EN
CALSCALE:GREGORIAN
X-WR-CALNAME:Jazzclub Leipzig e.V.
BEGIN:VEVENT
X-CREATED:20241127T101557Z
UID:34468
DTEND;VALUE=DATE:20250121T220000
DTSTART;VALUE=DATE:20250121T200000
DTSTAMP:20260424T063817Z
LOCATION:Horns Erben
DESCRIPTION:Der argentinische Drummer bewegt sich in der Musik seines Quartetts auf den Spuren Charnias – eines ca. 570 Millionen alten Meeresorganismus‘, der die Schönheit des Lebens auf der Erde verkörpert. […]
SUMMARY:Pablo Tarantino Quartet
ORGANIZER:Jazzclub Leipzig e.V.
URL;VALUE=URI:https://www.jazzclub-leipzig.de/kategorie-jazzkalender/pablo-tarantino-quartet/
TRANSP:OPAQUE
BEGIN:VALARM
ACTION:DISPLAY
TRIGGER;VALUE=DATE-TIME:20250121T190000Z
DESCRIPTION:Erinnerung an Pablo Tarantino Quartet
END:VALARM
END:VEVENT
END:VCALENDAR
