BEGIN:VCALENDAR
VERSION:2.0
PRODID:-//Jazzclub Leipzig e.V. //NONSGML Events //EN
CALSCALE:GREGORIAN
X-WR-CALNAME:Jazzclub Leipzig e.V.
BEGIN:VEVENT
X-CREATED:20241127T101402Z
UID:34464
DTEND;VALUE=DATE:20250118T220000
DTSTART;VALUE=DATE:20250118T200000
DTSTAMP:20260424T063705Z
LOCATION:UT Connewitz
DESCRIPTION:Hinter dem Pseudonym verbirgt sich die Leipziger Pianistin und Komponistin Friederike Bernhardt, die seit vielen Jahren bekannt ist für ihren charakteristischen Sound zwischen Neoklassik und Jazz • VVK 18 €
SUMMARY:Moritz Fasbender
ORGANIZER:Jazzclub Leipzig e.V.
URL;VALUE=URI:https://www.jazzclub-leipzig.de/kategorie-jazzkalender/moritz-fasbender/
TRANSP:OPAQUE
BEGIN:VALARM
ACTION:DISPLAY
TRIGGER;VALUE=DATE-TIME:20250118T190000Z
DESCRIPTION:Erinnerung an Moritz Fasbender
END:VALARM
END:VEVENT
END:VCALENDAR
