BEGIN:VCALENDAR
VERSION:2.0
PRODID:-//Jazzclub Leipzig e.V. //NONSGML Events //EN
CALSCALE:GREGORIAN
X-WR-CALNAME:Jazzclub Leipzig e.V.
BEGIN:VEVENT
X-CREATED:20241127T101057Z
UID:34458
DTEND;VALUE=DATE:20250113T220000
DTSTART;VALUE=DATE:20250113T200000
DTSTAMP:20260424T063816Z
LOCATION:Laden auf Zeit
DESCRIPTION:Meyers Musik ist geprägt von komplexen Harmonieverläufen und verspielten Rhythmen. Sein Saxofonspiel erscheint mal lyrisch, mal verletzlich • Matthias Meyer (dr, comp), Efim Braylovskiy (as), Finn Vidal (ts), Jakob Reisener […]
SUMMARY:Matthias Meyer’s »Niemandsland« (Record Release Konzert)
ORGANIZER:Jazzclub Leipzig e.V.
URL;VALUE=URI:https://www.jazzclub-leipzig.de/kategorie-jazzkalender/matthias-meyers-niemandsland-record-release-konzert/
TRANSP:OPAQUE
BEGIN:VALARM
ACTION:DISPLAY
TRIGGER;VALUE=DATE-TIME:20250113T190000Z
DESCRIPTION:Erinnerung an Matthias Meyer&#8217\;s »Niemandsland« (Record Release Konzert)
END:VALARM
END:VEVENT
END:VCALENDAR
