BEGIN:VCALENDAR
VERSION:2.0
PRODID:-//Jazzclub Leipzig e.V. //NONSGML Events //EN
CALSCALE:GREGORIAN
X-WR-CALNAME:Jazzclub Leipzig e.V.
BEGIN:VEVENT
X-CREATED:20241127T095550Z
UID:34452
DTEND;VALUE=DATE:20250104T220000
DTSTART;VALUE=DATE:20250104T200000
DTSTAMP:20260424T084032Z
LOCATION:Horns Erben
DESCRIPTION:Das elf-köpfige Kollektiv vereint in seinem Sound Jazz, Funk, Indie-Rock, Klassik und transkulturelle Klänge und hat damit Kritik wie Publikum gleichermaßen überzeugt • Ida Wutzler (voc), Johannes Kellig/ Ludwig Barth […]
SUMMARY:Searching For Home
ORGANIZER:Jazzclub Leipzig e.V.
URL;VALUE=URI:https://www.jazzclub-leipzig.de/kategorie-jazzkalender/searching-for-home-2/
TRANSP:OPAQUE
BEGIN:VALARM
ACTION:DISPLAY
TRIGGER;VALUE=DATE-TIME:20250104T190000Z
DESCRIPTION:Erinnerung an Searching For Home
END:VALARM
END:VEVENT
END:VCALENDAR
