BEGIN:VCALENDAR
VERSION:2.0
PRODID:-//Jazzclub Leipzig e.V. //NONSGML Events //EN
CALSCALE:GREGORIAN
X-WR-CALNAME:Jazzclub Leipzig e.V.
BEGIN:VEVENT
X-CREATED:20241127T095035Z
UID:34442
DTEND;VALUE=DATE:20241219T213000
DTSTART;VALUE=DATE:20241219T193000
DTSTAMP:20260424T063727Z
LOCATION:Horns Erben
DESCRIPTION:Jeden dritten Donnerstag wird für die Jazzsession im Horns Erben eine Hammondorgel eingesetzt  • Session-Opener: JAN himself • Eintritt frei
SUMMARY:Hammond[dʒæz]Session #19
ORGANIZER:Jazzclub Leipzig e.V.
URL;VALUE=URI:https://www.jazzclub-leipzig.de/kategorie-jazzkalender/hammondd%ca%92aezsession-19/
TRANSP:OPAQUE
BEGIN:VALARM
ACTION:DISPLAY
TRIGGER;VALUE=DATE-TIME:20241219T183000Z
DESCRIPTION:Erinnerung an Hammond[dʒæz]Session #19
END:VALARM
END:VEVENT
END:VCALENDAR
