BEGIN:VCALENDAR
VERSION:2.0
PRODID:-//Jazzclub Leipzig e.V. //NONSGML Events //EN
CALSCALE:GREGORIAN
X-WR-CALNAME:Jazzclub Leipzig e.V.
BEGIN:VEVENT
X-CREATED:20241127T094733Z
UID:34440
DTEND;VALUE=DATE:20241218T220000
DTSTART;VALUE=DATE:20241218T200000
DTSTAMP:20260424T081007Z
LOCATION:Horns Erben
DESCRIPTION:Das Trio vereint in Eigenkompositionen und Traditionals die musikalischen Traditionen des amerikanischen Kontinents: Von Nord bis Süd, und West bis Ost • Diego Pinera (dr), Jonas Timm (p), Tobi Fröhlich […]
SUMMARY:Timm/ Pinera/ Fröhlich
ORGANIZER:Jazzclub Leipzig e.V.
URL;VALUE=URI:https://www.jazzclub-leipzig.de/kategorie-jazzkalender/timm-pinera-froehlich/
TRANSP:OPAQUE
BEGIN:VALARM
ACTION:DISPLAY
TRIGGER;VALUE=DATE-TIME:20241218T190000Z
DESCRIPTION:Erinnerung an Timm/ Pinera/ Fröhlich
END:VALARM
END:VEVENT
END:VCALENDAR
