BEGIN:VCALENDAR
VERSION:2.0
PRODID:-//Jazzclub Leipzig e.V. //NONSGML Events //EN
CALSCALE:GREGORIAN
X-WR-CALNAME:Jazzclub Leipzig e.V.
BEGIN:VEVENT
X-CREATED:20241127T094443Z
UID:34435
DTEND;VALUE=DATE:20241218T220000
DTSTART;VALUE=DATE:20241218T200000
DTSTAMP:20260421T093433Z
LOCATION:Schauspielhaus
DESCRIPTION:Weihnachten ist ein Fest der Traditionen: Neben Weihnachtsbäumen und -liedern hat sich das Weihnachtskonzert des Duos mittlerweile in ähnlicher Form etabliert. Ihr Set oszilliert zwischen Klassik, Pop und Jazz • […]
SUMMARY:Duo Stiehler/ Lucaciu – Das Weihnachtskonzert
ORGANIZER:Jazzclub Leipzig e.V.
URL;VALUE=URI:https://www.jazzclub-leipzig.de/kategorie-jazzkalender/mondayboxxx-the-real-jazz-orchestra-3/
TRANSP:OPAQUE
BEGIN:VALARM
ACTION:DISPLAY
TRIGGER;VALUE=DATE-TIME:20241218T190000Z
DESCRIPTION:Erinnerung an Duo Stiehler/ Lucaciu – Das Weihnachtskonzert
END:VALARM
END:VEVENT
END:VCALENDAR
