BEGIN:VCALENDAR
VERSION:2.0
PRODID:-//Jazzclub Leipzig e.V. //NONSGML Events //EN
CALSCALE:GREGORIAN
X-WR-CALNAME:Jazzclub Leipzig e.V.
BEGIN:VEVENT
X-CREATED:20241127T094353Z
UID:34433
DTEND;VALUE=DATE:20241216T213000
DTSTART;VALUE=DATE:20241216T193000
DTSTAMP:20260424T063707Z
LOCATION:Laden auf Zeit
DESCRIPTION:Das Leipziger Trio steht in der Tradition amerikanischer Jazzklaviertrios. Sein Repertoire umfasst Jazzstandards wie zugleich eigene Kompositionen • Robbi Nakayama (p), Mathias Ruppig (dr), Lorenz Heigenhuber (db) • VVK 15/10 […]
SUMMARY:Nakayama/Ruppnig/Heigenhuber
ORGANIZER:Jazzclub Leipzig e.V.
URL;VALUE=URI:https://www.jazzclub-leipzig.de/kategorie-jazzkalender/nakayama-ruppnig-heigenhuber/
TRANSP:OPAQUE
BEGIN:VALARM
ACTION:DISPLAY
TRIGGER;VALUE=DATE-TIME:20241216T183000Z
DESCRIPTION:Erinnerung an Nakayama/Ruppnig/Heigenhuber
END:VALARM
END:VEVENT
END:VCALENDAR
