BEGIN:VCALENDAR
VERSION:2.0
PRODID:-//Jazzclub Leipzig e.V. //NONSGML Events //EN
CALSCALE:GREGORIAN
X-WR-CALNAME:Jazzclub Leipzig e.V.
BEGIN:VEVENT
X-CREATED:20241127T093944Z
UID:34427
DTEND;VALUE=DATE:20241213T203000
DTSTART;VALUE=DATE:20241213T183000
DTSTAMP:20260422T090723Z
LOCATION:HMT Grosser Saal
DESCRIPTION:Studierende der Fachrichtungen Jazz und Pop präsentieren Musik und Lyrik zur Weihnachtszeit • VVK ab 13 €
SUMMARY:Vorweihnachtliche Musik und Lyrik
ORGANIZER:Jazzclub Leipzig e.V.
URL;VALUE=URI:https://www.jazzclub-leipzig.de/kategorie-jazzkalender/vorweihnachtliche-musik-und-lyrik-3/
TRANSP:OPAQUE
BEGIN:VALARM
ACTION:DISPLAY
TRIGGER;VALUE=DATE-TIME:20241213T173000Z
DESCRIPTION:Erinnerung an Vorweihnachtliche Musik und Lyrik
END:VALARM
END:VEVENT
END:VCALENDAR
