BEGIN:VCALENDAR
VERSION:2.0
PRODID:-//Jazzclub Leipzig e.V. //NONSGML Events //EN
CALSCALE:GREGORIAN
X-WR-CALNAME:Jazzclub Leipzig e.V.
BEGIN:VEVENT
X-CREATED:20241127T093445Z
UID:34420
DTEND;VALUE=DATE:20241210T220000
DTSTART;VALUE=DATE:20241210T200000
DTSTAMP:20260424T063705Z
LOCATION:Kulturnhalle
DESCRIPTION:Das Kölner Quartett setzt sich aus internationalen Musiker*innen zusammen, die langjährige Erfahrungen in den Bereichen zeitgenössischer Musik, Improvisation, Jazz und Orchester mitbringen • Eintritt frei
SUMMARY:Kommas Ensemble
ORGANIZER:Jazzclub Leipzig e.V.
URL;VALUE=URI:https://www.jazzclub-leipzig.de/kategorie-jazzkalender/kommas-ensemble/
TRANSP:OPAQUE
BEGIN:VALARM
ACTION:DISPLAY
TRIGGER;VALUE=DATE-TIME:20241210T190000Z
DESCRIPTION:Erinnerung an Kommas Ensemble
END:VALARM
END:VEVENT
END:VCALENDAR
