BEGIN:VCALENDAR
VERSION:2.0
PRODID:-//Jazzclub Leipzig e.V. //NONSGML Events //EN
CALSCALE:GREGORIAN
X-WR-CALNAME:Jazzclub Leipzig e.V.
BEGIN:VEVENT
X-CREATED:20241126T084442Z
UID:34416
DTEND;VALUE=DATE:20241208T213000
DTSTART;VALUE=DATE:20241208T193000
DTSTAMP:20260424T081114Z
LOCATION:UT Connewitz
DESCRIPTION:Damian Dalla Torre ist in der hiesigen Jazzszene schon lange kein Unbekannter mehr. In zahllosen Formationen wie der Spielvereinigung Sued, Lobster, Coastline Paradox oder Beyond w/ Bernhardt hat er in […]
SUMMARY:TELESKOPradius: Damian Dalla Torre / Weebz
ORGANIZER:Jazzclub Leipzig e.V.
URL;VALUE=URI:https://www.jazzclub-leipzig.de/kategorie-jazzkalender/teleskopradius-damian-dalla-torre-weebz/
TRANSP:OPAQUE
BEGIN:VALARM
ACTION:DISPLAY
TRIGGER;VALUE=DATE-TIME:20241208T183000Z
DESCRIPTION:Erinnerung an TELESKOPradius: Damian Dalla Torre / Weebz
END:VALARM
END:VEVENT
END:VCALENDAR
