BEGIN:VCALENDAR
VERSION:2.0
PRODID:-//Jazzclub Leipzig e.V. //NONSGML Events //EN
CALSCALE:GREGORIAN
X-WR-CALNAME:Jazzclub Leipzig e.V.
BEGIN:VEVENT
X-CREATED:20241126T084334Z
UID:34414
DTEND;VALUE=DATE:20241207T220000
DTSTART;VALUE=DATE:20241207T200000
DTSTAMP:20260424T063727Z
LOCATION:Horns Erben
DESCRIPTION:Seit 2008 aktiv, hat das Skazka-Orchestra seitdem in über 700 Konzerten seine ganz eigene Mixtur aus Ska, Klezmer, Jazz und Techno perfektioniert • Elena Shams (dr), Jan-Luc Jossa (perc), Marleen […]
SUMMARY:Skazka
ORGANIZER:Jazzclub Leipzig e.V.
URL;VALUE=URI:https://www.jazzclub-leipzig.de/kategorie-jazzkalender/skazka/
TRANSP:OPAQUE
BEGIN:VALARM
ACTION:DISPLAY
TRIGGER;VALUE=DATE-TIME:20241207T190000Z
DESCRIPTION:Erinnerung an Skazka
END:VALARM
END:VEVENT
END:VCALENDAR
