BEGIN:VCALENDAR
VERSION:2.0
PRODID:-//Jazzclub Leipzig e.V. //NONSGML Events //EN
CALSCALE:GREGORIAN
X-WR-CALNAME:Jazzclub Leipzig e.V.
BEGIN:VEVENT
X-CREATED:20241126T084142Z
UID:34410
DTEND;VALUE=DATE:20241207T220000
DTSTART;VALUE=DATE:20241207T200000
DTSTAMP:20260424T081114Z
LOCATION:Mediencampus Villa Ida
DESCRIPTION:Die Musik des französischen Quartetts erweist sich als gleichermaßen filigran wie poetisch • Bruno Angelini (pi, comp), Claude Tchamitchian (b), Régis Huby (v, elec), Edward Perraud (perc) • VVK 20/15/10 […]
SUMMARY:Campus Jazz I Open Land Quartet
ORGANIZER:Jazzclub Leipzig e.V.
URL;VALUE=URI:https://www.jazzclub-leipzig.de/kategorie-jazzkalender/campus-jazz-i-open-land-quartet/
TRANSP:OPAQUE
BEGIN:VALARM
ACTION:DISPLAY
TRIGGER;VALUE=DATE-TIME:20241207T190000Z
DESCRIPTION:Erinnerung an Campus Jazz I Open Land Quartet
END:VALARM
END:VEVENT
END:VCALENDAR
