BEGIN:VCALENDAR
VERSION:2.0
PRODID:-//Jazzclub Leipzig e.V. //NONSGML Events //EN
CALSCALE:GREGORIAN
X-WR-CALNAME:Jazzclub Leipzig e.V.
BEGIN:VEVENT
X-CREATED:20241126T084035Z
UID:34408
DTEND;VALUE=DATE:20241207T220000
DTSTART;VALUE=DATE:20241207T200000
DTSTAMP:20260424T081138Z
LOCATION:Conne Island
DESCRIPTION:1984 als Funk-Punk-Band gegründet, entwickelten die Goldenen Zitronen ab den frühen 1990er-Jahren einen bis heute höchst charakteristischen Sound zwischen Free Jazz, HipHop, Electronica und Post Punk • Julius Block (p, […]
SUMMARY:40 Jahre Goldies – Die Goldenen Zitronen – Zauberhafte Ballnacht mit ihren Genoss:innen
ORGANIZER:Jazzclub Leipzig e.V.
URL;VALUE=URI:https://www.jazzclub-leipzig.de/kategorie-jazzkalender/40-jahre-goldies-die-goldenen-zitronen-zauberhafte-ballnacht-mit-ihren-genossinnen/
TRANSP:OPAQUE
BEGIN:VALARM
ACTION:DISPLAY
TRIGGER;VALUE=DATE-TIME:20241207T190000Z
DESCRIPTION:Erinnerung an 40 Jahre Goldies – Die Goldenen Zitronen – Zauberhafte Ballnacht mit ihren Genoss:innen
END:VALARM
END:VEVENT
END:VCALENDAR
