BEGIN:VCALENDAR
VERSION:2.0
PRODID:-//Jazzclub Leipzig e.V. //NONSGML Events //EN
CALSCALE:GREGORIAN
X-WR-CALNAME:Jazzclub Leipzig e.V.
BEGIN:VEVENT
X-CREATED:20241126T083636Z
UID:34402
DTEND;VALUE=DATE:20241204T220000
DTSTART;VALUE=DATE:20241204T200000
DTSTAMP:20260424T081223Z
LOCATION:Horns Erben
DESCRIPTION:Das Streichquartett bewegt sich zwischen Jazz, Groove und Improvisation. Die vier Musikerinnen lernten sich während ihres Studiums an den Musikhochschulen in Leipzig und Hamburg kennen • Myrsini Bekakou (v), Alma […]
SUMMARY:Alou String Quartet
ORGANIZER:Jazzclub Leipzig e.V.
URL;VALUE=URI:https://www.jazzclub-leipzig.de/kategorie-jazzkalender/alou-string-quartet-2/
TRANSP:OPAQUE
BEGIN:VALARM
ACTION:DISPLAY
TRIGGER;VALUE=DATE-TIME:20241204T190000Z
DESCRIPTION:Erinnerung an Alou String Quartet
END:VALARM
END:VEVENT
END:VCALENDAR
