BEGIN:VCALENDAR
VERSION:2.0
PRODID:-//Jazzclub Leipzig e.V. //NONSGML Events //EN
CALSCALE:GREGORIAN
X-WR-CALNAME:Jazzclub Leipzig e.V.
BEGIN:VEVENT
X-CREATED:20241126T083539Z
UID:34400
DTEND;VALUE=DATE:20241203T220000
DTSTART;VALUE=DATE:20241203T200000
DTSTAMP:20260424T094412Z
LOCATION:Horns Erben
DESCRIPTION:Studierende der HMT Leipzig stellen ihre selbstgeschriebenen Songs vor • Eintritt frei
SUMMARY:Songwerkstatt in neuem Format
ORGANIZER:Jazzclub Leipzig e.V.
URL;VALUE=URI:https://www.jazzclub-leipzig.de/kategorie-jazzkalender/songwerkstatt-in-neuem-format/
TRANSP:OPAQUE
BEGIN:VALARM
ACTION:DISPLAY
TRIGGER;VALUE=DATE-TIME:20241203T190000Z
DESCRIPTION:Erinnerung an Songwerkstatt in neuem Format
END:VALARM
END:VEVENT
END:VCALENDAR
