BEGIN:VCALENDAR
VERSION:2.0
PRODID:-//Jazzclub Leipzig e.V. //NONSGML Events //EN
CALSCALE:GREGORIAN
X-WR-CALNAME:Jazzclub Leipzig e.V.
BEGIN:VEVENT
X-CREATED:20241126T083439Z
UID:34397
DTEND;VALUE=DATE:20241203T220000
DTSTART;VALUE=DATE:20241203T200000
DTSTAMP:20260424T081137Z
LOCATION:UT Connewitz
DESCRIPTION:Mick Strauss vereint in seinem charakteristischen Sound Einflüsse seiner großen Heroen: Lou Reed, Neil Young und Dolly Parton • Mick Strauss (voc, git, harm), Jennifer Hutt (voc, v, syn), Maëva […]
SUMMARY:Mick Strauss
ORGANIZER:Jazzclub Leipzig e.V.
URL;VALUE=URI:https://www.jazzclub-leipzig.de/kategorie-jazzkalender/mick-strauss/
TRANSP:OPAQUE
BEGIN:VALARM
ACTION:DISPLAY
TRIGGER;VALUE=DATE-TIME:20241203T190000Z
DESCRIPTION:Erinnerung an Mick Strauss
END:VALARM
END:VEVENT
END:VCALENDAR
