BEGIN:VCALENDAR
VERSION:2.0
PRODID:-//Jazzclub Leipzig e.V. //NONSGML Events //EN
CALSCALE:GREGORIAN
X-WR-CALNAME:Jazzclub Leipzig e.V.
BEGIN:VEVENT
X-CREATED:20241126T083210Z
UID:34395
DTEND;VALUE=DATE:20241202T220000
DTSTART;VALUE=DATE:20241202T200000
DTSTAMP:20260424T083122Z
LOCATION:Laden auf Zeit
DESCRIPTION:Das Trio um die drei J’s versucht sich am Spagat zwischen Neuer Musik und Zugängilichkeit, Abstraktion und Konkretion, und besteht mit Bravour. Die komplexen Eigenkompositionen überzeugen durch die Synthese aus […]
SUMMARY:Justin Zitt‘s FRIGO
ORGANIZER:Jazzclub Leipzig e.V.
URL;VALUE=URI:https://www.jazzclub-leipzig.de/kategorie-jazzkalender/justin-zitts-frigo/
TRANSP:OPAQUE
BEGIN:VALARM
ACTION:DISPLAY
TRIGGER;VALUE=DATE-TIME:20241202T190000Z
DESCRIPTION:Erinnerung an Justin Zitt‘s FRIGO
END:VALARM
END:VEVENT
END:VCALENDAR
