BEGIN:VCALENDAR
VERSION:2.0
PRODID:-//Jazzclub Leipzig e.V. //NONSGML Events //EN
CALSCALE:GREGORIAN
X-WR-CALNAME:Jazzclub Leipzig e.V.
BEGIN:VEVENT
X-CREATED:20241029T101417Z
UID:34335
DTEND;VALUE=DATE:20241129T220000
DTSTART;VALUE=DATE:20241129T200000
DTSTAMP:20260424T083123Z
LOCATION:Horns Erben
DESCRIPTION:Carlo Morena präsentiert ein Soloprogramm, das seine Bewunderung für die Größen der Jazzpiano-Geschichte nicht negiert, sondern davon ausgehend eine eigene Handschrift zwischen Tradition und Gegenwart entwickelt • Carlo Morena (p) […]
SUMMARY:Carlo Morena – Jazz Piano Solo
ORGANIZER:Jazzclub Leipzig e.V.
URL;VALUE=URI:https://www.jazzclub-leipzig.de/kategorie-jazzkalender/carlo-morena-jazz-piano-solo/
TRANSP:OPAQUE
BEGIN:VALARM
ACTION:DISPLAY
TRIGGER;VALUE=DATE-TIME:20241129T190000Z
DESCRIPTION:Erinnerung an Carlo Morena – Jazz Piano Solo
END:VALARM
END:VEVENT
END:VCALENDAR
