BEGIN:VCALENDAR
VERSION:2.0
PRODID:-//Jazzclub Leipzig e.V. //NONSGML Events //EN
CALSCALE:GREGORIAN
X-WR-CALNAME:Jazzclub Leipzig e.V.
BEGIN:VEVENT
X-CREATED:20241029T101310Z
UID:34333
DTEND;VALUE=DATE:20241129T210000
DTSTART;VALUE=DATE:20241129T190000
DTSTAMP:20260424T082605Z
LOCATION:Kunstraum Ortloff
DESCRIPTION:Zum 50. Konzertjubiläum werden im Kunstraum Ortloff Live-Mitschnitte auf Vinyl erscheinen. Neben einer Präsentation der Konzertplakate der vergangenen sieben Jahre wird selbstredend auch gebührend gefeiert
SUMMARY:Konzertjubiläum »No further noise«
ORGANIZER:Jazzclub Leipzig e.V.
URL;VALUE=URI:https://www.jazzclub-leipzig.de/kategorie-jazzkalender/konzertjubilaeum-no-further-noise/
TRANSP:OPAQUE
BEGIN:VALARM
ACTION:DISPLAY
TRIGGER;VALUE=DATE-TIME:20241129T180000Z
DESCRIPTION:Erinnerung an Konzertjubiläum »No further noise«
END:VALARM
END:VEVENT
END:VCALENDAR
