BEGIN:VCALENDAR
VERSION:2.0
PRODID:-//Jazzclub Leipzig e.V. //NONSGML Events //EN
CALSCALE:GREGORIAN
X-WR-CALNAME:Jazzclub Leipzig e.V.
BEGIN:VEVENT
X-CREATED:20241029T100910Z
UID:34325
DTEND;VALUE=DATE:20241128T220000
DTSTART;VALUE=DATE:20241128T200000
DTSTAMP:20260424T083321Z
LOCATION:naTo
DESCRIPTION:Der Schriftsteller Peter Brasch entstammt der bekannten Künstlerfamilie Brasch, zu der nicht zuletzt auch seine beiden Geschwister Thomas sowie Marion gehören. Letztere kennt man u.a. durch ihre Tätigkeit als Radiomoderatorin […]
SUMMARY:»Kellner kommen und gehen«: Marion Brasch liest Peter Brasch
ORGANIZER:Jazzclub Leipzig e.V.
URL;VALUE=URI:https://www.jazzclub-leipzig.de/kategorie-jazzkalender/kellner-kommen-und-gehen-marion-brasch-liest-peter-brasch/
TRANSP:OPAQUE
BEGIN:VALARM
ACTION:DISPLAY
TRIGGER;VALUE=DATE-TIME:20241128T190000Z
DESCRIPTION:Erinnerung an »Kellner kommen und gehen«: Marion Brasch liest Peter Brasch
END:VALARM
END:VEVENT
END:VCALENDAR
