BEGIN:VCALENDAR
VERSION:2.0
PRODID:-//Jazzclub Leipzig e.V. //NONSGML Events //EN
CALSCALE:GREGORIAN
X-WR-CALNAME:Jazzclub Leipzig e.V.
BEGIN:VEVENT
X-CREATED:20241029T100748Z
UID:34323
DTEND;VALUE=DATE:20241127T220000
DTSTART;VALUE=DATE:20241127T200000
DTSTAMP:20260424T083542Z
LOCATION:Horns Erben
DESCRIPTION:Je schneller und hektischer die Gegenwart, so scheint es zumindest, desto langsamer und in-sich-ruhender wird die Musik des Leipziger Kontrabassisten Malo Moray. Für diese antizyklische Herangehensweise greift er neben seinem […]
SUMMARY:Malo Moray – EMBRACE TOUR 2024 – Ambient/Kraut/Jazz
ORGANIZER:Jazzclub Leipzig e.V.
URL;VALUE=URI:https://www.jazzclub-leipzig.de/kategorie-jazzkalender/malo-moray-embrace-tour-2024-ambient-kraut-jazz/
TRANSP:OPAQUE
BEGIN:VALARM
ACTION:DISPLAY
TRIGGER;VALUE=DATE-TIME:20241127T190000Z
DESCRIPTION:Erinnerung an Malo Moray – EMBRACE TOUR 2024 – Ambient/Kraut/Jazz
END:VALARM
END:VEVENT
END:VCALENDAR
