BEGIN:VCALENDAR
VERSION:2.0
PRODID:-//Jazzclub Leipzig e.V. //NONSGML Events //EN
CALSCALE:GREGORIAN
X-WR-CALNAME:Jazzclub Leipzig e.V.
BEGIN:VEVENT
X-CREATED:20241029T095955Z
UID:34307
DTEND;VALUE=DATE:20241123T220000
DTSTART;VALUE=DATE:20241123T200000
DTSTAMP:20260424T084308Z
LOCATION:Noch Besser Leben
DESCRIPTION:2018 gegründete Leipziger Formation, die Elemente aus Funk, Jazz und Prog zu einem groovenden, niemals still stehenden Sound vermengen. Im Noch Besser Leben stellen sie ihre neue, insgesamt dritte EP […]
SUMMARY:Elements of Elephants
ORGANIZER:Jazzclub Leipzig e.V.
URL;VALUE=URI:https://www.jazzclub-leipzig.de/kategorie-jazzkalender/elements-of-elephants/
TRANSP:OPAQUE
BEGIN:VALARM
ACTION:DISPLAY
TRIGGER;VALUE=DATE-TIME:20241123T190000Z
DESCRIPTION:Erinnerung an Elements of Elephants
END:VALARM
END:VEVENT
END:VCALENDAR
