BEGIN:VCALENDAR
VERSION:2.0
PRODID:-//Jazzclub Leipzig e.V. //NONSGML Events //EN
CALSCALE:GREGORIAN
X-WR-CALNAME:Jazzclub Leipzig e.V.
BEGIN:VEVENT
X-CREATED:20241029T094822Z
UID:34301
DTEND;VALUE=DATE:20241121T223000
DTSTART;VALUE=DATE:20241121T203000
DTSTAMP:20260424T094412Z
LOCATION:UT Connewitz
DESCRIPTION:Die Berliner Musikerin und Songschreiberin bewegt sich mit ihrem Soloprojekt zwischen Kammerpop, jazzy Tunes und düsterem Folk. Wiederholt kommen einem dabei Acts wie die Tindersticks oder Portishead als Referenzen in […]
SUMMARY:Joanna Gemma Auguri
ORGANIZER:Jazzclub Leipzig e.V.
URL;VALUE=URI:https://www.jazzclub-leipzig.de/kategorie-jazzkalender/joanna-gemma-auguri/
TRANSP:OPAQUE
BEGIN:VALARM
ACTION:DISPLAY
TRIGGER;VALUE=DATE-TIME:20241121T193000Z
DESCRIPTION:Erinnerung an Joanna Gemma Auguri
END:VALARM
END:VEVENT
END:VCALENDAR
