BEGIN:VCALENDAR
VERSION:2.0
PRODID:-//Jazzclub Leipzig e.V. //NONSGML Events //EN
CALSCALE:GREGORIAN
X-WR-CALNAME:Jazzclub Leipzig e.V.
BEGIN:VEVENT
X-CREATED:20241029T092732Z
UID:34289
DTEND;VALUE=DATE:20241115T220000
DTSTART;VALUE=DATE:20241115T200000
DTSTAMP:20260424T094443Z
LOCATION:Noch Besser Leben
DESCRIPTION:Quartett um Reinhardt Noack und Eckhardt Noll, die Teil der Free-Jazz-Szene der DDR waren und mit Bassklarinette und verzerrter Violine eine durchaus ungewöhnliche Instrumentierung aufweisen. Das musikalische Ergebnis ist ein […]
SUMMARY:r.nen
ORGANIZER:Jazzclub Leipzig e.V.
URL;VALUE=URI:https://www.jazzclub-leipzig.de/kategorie-jazzkalender/r-nen-2/
TRANSP:OPAQUE
BEGIN:VALARM
ACTION:DISPLAY
TRIGGER;VALUE=DATE-TIME:20241115T190000Z
DESCRIPTION:Erinnerung an r.nen
END:VALARM
END:VEVENT
END:VCALENDAR
