BEGIN:VCALENDAR
VERSION:2.0
PRODID:-//Jazzclub Leipzig e.V. //NONSGML Events //EN
CALSCALE:GREGORIAN
X-WR-CALNAME:Jazzclub Leipzig e.V.
BEGIN:VEVENT
X-CREATED:20241029T092542Z
UID:34285
DTEND;VALUE=DATE:20241114T213000
DTSTART;VALUE=DATE:20241114T193000
DTSTAMP:20260422T105942Z
LOCATION:Leipzig
DESCRIPTION:Seit vielen Jahren schon steht das Transcentury Update auch weit über die Stadtgrenzen hinaus für äußerst hochwertige wie vielseitige Line-Ups, die – egal ob Post Punk, HipHop, Neue Musik oder […]
SUMMARY:Transcentury Update
ORGANIZER:Jazzclub Leipzig e.V.
URL;VALUE=URI:https://www.jazzclub-leipzig.de/kategorie-jazzkalender/transcentury-update-4/
TRANSP:OPAQUE
BEGIN:VALARM
ACTION:DISPLAY
TRIGGER;VALUE=DATE-TIME:20241114T183000Z
DESCRIPTION:Erinnerung an Transcentury Update
END:VALARM
END:VEVENT
END:VCALENDAR
