BEGIN:VCALENDAR
VERSION:2.0
PRODID:-//Jazzclub Leipzig e.V. //NONSGML Events //EN
CALSCALE:GREGORIAN
X-WR-CALNAME:Jazzclub Leipzig e.V.
BEGIN:VEVENT
X-CREATED:20241029T091653Z
UID:34275
DTEND;VALUE=DATE:20241106T220000
DTSTART;VALUE=DATE:20241106T200000
DTSTAMP:20260424T102626Z
LOCATION:Horns Erben
DESCRIPTION:Die Multiinstrumentalistin und Komponistin Nora Thiele wandelt in ihrer Musik zwischen Zeiten, Genres und Kulturen. Ihr neues Soloprogramm verbindet Klavierfiguren, die Kunst der Improvisation, elektronische Ambient-Sounds und moderne, organische Beats. […]
SUMMARY:NORA THIELE – Solo piano, perc, voc, live electronics
ORGANIZER:Jazzclub Leipzig e.V.
URL;VALUE=URI:https://www.jazzclub-leipzig.de/kategorie-jazzkalender/nora-thiele-solo-piano-perc-voc-live-electronics/
TRANSP:OPAQUE
BEGIN:VALARM
ACTION:DISPLAY
TRIGGER;VALUE=DATE-TIME:20241106T190000Z
DESCRIPTION:Erinnerung an NORA THIELE – Solo piano\, perc\, voc\, live electronics
END:VALARM
END:VEVENT
END:VCALENDAR
