BEGIN:VCALENDAR
VERSION:2.0
PRODID:-//Jazzclub Leipzig e.V. //NONSGML Events //EN
CALSCALE:GREGORIAN
X-WR-CALNAME:Jazzclub Leipzig e.V.
BEGIN:VEVENT
X-CREATED:20241029T091340Z
UID:34267
DTEND;VALUE=DATE:20241105T220000
DTSTART;VALUE=DATE:20241105T200000
DTSTAMP:20260424T122210Z
LOCATION:Leipzig
DESCRIPTION:An insgesamt 11 verschiedenen Spieorten (Lofft, Schaubühne Lindenfels, Schauspiel Leipzig, u.v.m.) präsentiert die Euro-Scene vom 05.-09.11. ein vielfältiges Programm internationaler Tanz- und Theaterproduktionen, die den Zustand der Gesellschaft künstlerisch reflektieren […]
SUMMARY:euro-scene
ORGANIZER:Jazzclub Leipzig e.V.
URL;VALUE=URI:https://www.jazzclub-leipzig.de/kategorie-jazzkalender/euro-scene/
TRANSP:OPAQUE
BEGIN:VALARM
ACTION:DISPLAY
TRIGGER;VALUE=DATE-TIME:20241105T190000Z
DESCRIPTION:Erinnerung an euro-scene
END:VALARM
END:VEVENT
END:VCALENDAR
