BEGIN:VCALENDAR
VERSION:2.0
PRODID:-//Jazzclub Leipzig e.V. //NONSGML Events //EN
CALSCALE:GREGORIAN
X-WR-CALNAME:Jazzclub Leipzig e.V.
BEGIN:VEVENT
X-CREATED:20241029T090359Z
UID:34261
DTEND;VALUE=DATE:20241103T220000
DTSTART;VALUE=DATE:20241103T200000
DTSTAMP:20260424T102800Z
LOCATION:Moritzbastei
DESCRIPTION:Die Band gründete sich bereits in der frühen 1980er-Jahren im Post-Punk-Underground Englands und ist bekannt für seine düstere Atmosphäre und jazzige Rhythmen, die auch auf ihrem neuen, in diesem Jahr […]
SUMMARY:And Also The Trees
ORGANIZER:Jazzclub Leipzig e.V.
URL;VALUE=URI:https://www.jazzclub-leipzig.de/kategorie-jazzkalender/and-also-the-trees/
TRANSP:OPAQUE
BEGIN:VALARM
ACTION:DISPLAY
TRIGGER;VALUE=DATE-TIME:20241103T190000Z
DESCRIPTION:Erinnerung an And Also The Trees
END:VALARM
END:VEVENT
END:VCALENDAR
