BEGIN:VCALENDAR
VERSION:2.0
PRODID:-//Jazzclub Leipzig e.V. //NONSGML Events //EN
CALSCALE:GREGORIAN
X-WR-CALNAME:Jazzclub Leipzig e.V.
BEGIN:VEVENT
X-CREATED:20241029T085533Z
UID:34259
DTEND;VALUE=DATE:20241102T220000
DTSTART;VALUE=DATE:20241102T200000
DTSTAMP:20260424T102658Z
LOCATION:Horns Erben
DESCRIPTION:Sein erstes Album »White Russian« veröffentlichte das Duo um Roman Babik und Dimitrij Markitantov bereits vor 17 Jahren. Ihre präzisen Modern-Jazz-Tunes umweht eine folkloreske Wehmut und erzählen dabei von ihrem […]
SUMMARY:Roman Babik und Dimitrij Markitantov – Urban Modern Jazz
ORGANIZER:Jazzclub Leipzig e.V.
URL;VALUE=URI:https://www.jazzclub-leipzig.de/kategorie-jazzkalender/roman-babik-und-dimitrij-markitantov-urban-modern-jazz/
TRANSP:OPAQUE
BEGIN:VALARM
ACTION:DISPLAY
TRIGGER;VALUE=DATE-TIME:20241102T190000Z
DESCRIPTION:Erinnerung an Roman Babik und Dimitrij Markitantov – Urban Modern Jazz
END:VALARM
END:VEVENT
END:VCALENDAR
