BEGIN:VCALENDAR
VERSION:2.0
PRODID:-//Jazzclub Leipzig e.V. //NONSGML Events //EN
CALSCALE:GREGORIAN
X-WR-CALNAME:Jazzclub Leipzig e.V.
BEGIN:VEVENT
X-CREATED:20120510T190000Z
UID:340
DTEND;VALUE=DATE:20120510T230000
DTSTART;VALUE=DATE:20120510T210000
DTSTAMP:20260419T212620Z
LOCATION:
DESCRIPTION:Vier Musiker bündeln ihre Energien und Einflüsse in diesem Jazzquartett. Aus den Soundelementen ihrer Klanglaboratorien erzeugen sie live musikalisch dynamische Substanzen: Kompromisslose Kompositionen treffen auf improvisatorische Vielfalt und Freiheit in […]
SUMMARY:Trip
ORGANIZER:Jazzclub Leipzig e.V.
URL;VALUE=URI:https://www.jazzclub-leipzig.de/kategorie-jazzclub/jazzclub-termine/trip/
TRANSP:OPAQUE
BEGIN:VALARM
ACTION:DISPLAY
TRIGGER;VALUE=DATE-TIME:20120510T200000Z
DESCRIPTION:Erinnerung an Trip
END:VALARM
END:VEVENT
END:VCALENDAR
