BEGIN:VCALENDAR
VERSION:2.0
PRODID:-//Jazzclub Leipzig e.V. //NONSGML Events //EN
CALSCALE:GREGORIAN
X-WR-CALNAME:Jazzclub Leipzig e.V.
BEGIN:VEVENT
X-CREATED:20240926T132751Z
UID:33891
DTEND;VALUE=DATE:20241031T220000
DTSTART;VALUE=DATE:20241031T200000
DTSTAMP:20260424T113917Z
LOCATION:Berlin
DESCRIPTION:1964 an den Start gegangen, ist es bis heute eines der renommiertesten Jazzfestivals des Landes. Wer nach den Jazztagen noch nicht genug gehört hat, dem oder der sei der Weg […]
SUMMARY:Jazzfest Berlin
ORGANIZER:Jazzclub Leipzig e.V.
URL;VALUE=URI:https://www.jazzclub-leipzig.de/kategorie-jazzkalender/jazzfest-berlin/
TRANSP:OPAQUE
BEGIN:VALARM
ACTION:DISPLAY
TRIGGER;VALUE=DATE-TIME:20241031T190000Z
DESCRIPTION:Erinnerung an Jazzfest Berlin
END:VALARM
END:VEVENT
END:VCALENDAR
