BEGIN:VCALENDAR
VERSION:2.0
PRODID:-//Jazzclub Leipzig e.V. //NONSGML Events //EN
CALSCALE:GREGORIAN
X-WR-CALNAME:Jazzclub Leipzig e.V.
BEGIN:VEVENT
X-CREATED:20240926T132254Z
UID:33887
DTEND;VALUE=DATE:20241019T220000
DTSTART;VALUE=DATE:20241019T200000
DTSTAMP:20260424T133236Z
LOCATION:Horns Erben
DESCRIPTION:Inspiriert von ihrem Vorbild Billy Holliday, vereint die Leipziger Künstlerin Elemente aus klassischen Jazztunes mit HipHop- und Pop-Sounds und präsentiert sich auf Höhe des progressiven Zeitgeists • VVK 13/ 10 […]
SUMMARY:Violet Greens
ORGANIZER:Jazzclub Leipzig e.V.
URL;VALUE=URI:https://www.jazzclub-leipzig.de/kategorie-jazzkalender/violet-greens-2/
TRANSP:OPAQUE
BEGIN:VALARM
ACTION:DISPLAY
TRIGGER;VALUE=DATE-TIME:20241019T190000Z
DESCRIPTION:Erinnerung an Violet Greens
END:VALARM
END:VEVENT
END:VCALENDAR
