BEGIN:VCALENDAR
VERSION:2.0
PRODID:-//Jazzclub Leipzig e.V. //NONSGML Events //EN
CALSCALE:GREGORIAN
X-WR-CALNAME:Jazzclub Leipzig e.V.
BEGIN:VEVENT
X-CREATED:20240926T131519Z
UID:33879
DTEND;VALUE=DATE:20241013T220000
DTSTART;VALUE=DATE:20241013T200000
DTSTAMP:20260424T113840Z
LOCATION:Kulturnhalle
DESCRIPTION:Das Projekt des Berliner Kontrabassisten und Komponisten Felix Henkelhausen vereint in Zusammenarbeit mit engen Weggefährt*innen eine gemeinsame Ästhetik in rhythmischer, melodischer und emotionaler Hinsicht. Das musikalische Ergebnis ist ein zeitgenössischer […]
SUMMARY:Deranged Particles
ORGANIZER:Jazzclub Leipzig e.V.
URL;VALUE=URI:https://www.jazzclub-leipzig.de/kategorie-jazzkalender/deranged-particles/
TRANSP:OPAQUE
BEGIN:VALARM
ACTION:DISPLAY
TRIGGER;VALUE=DATE-TIME:20241013T190000Z
DESCRIPTION:Erinnerung an Deranged Particles
END:VALARM
END:VEVENT
END:VCALENDAR
