BEGIN:VCALENDAR
VERSION:2.0
PRODID:-//Jazzclub Leipzig e.V. //NONSGML Events //EN
CALSCALE:GREGORIAN
X-WR-CALNAME:Jazzclub Leipzig e.V.
BEGIN:VEVENT
X-CREATED:20240926T131355Z
UID:33877
DTEND;VALUE=DATE:20241010T210000
DTSTART;VALUE=DATE:20241010T190000
DTSTAMP:20260424T133242Z
LOCATION:Theaterhaus Schille
DESCRIPTION:Das LeipJAZZig-Herbstfestival ist zurück: An insgesamt drei Tagen wird ein buntes Rahmenprogramm mit etablierten Acts und Newcomer*innen präsentiert • mit munterfel, YES AND, EKI, Anamorphosis, Laura Wasniewski Trio, u.v.m. • […]
SUMMARY:LeipzJAZZig – Herbstfestival 2024
ORGANIZER:Jazzclub Leipzig e.V.
URL;VALUE=URI:https://www.jazzclub-leipzig.de/kategorie-jazzkalender/leipzjazzig-herbstfestival-2024/
TRANSP:OPAQUE
BEGIN:VALARM
ACTION:DISPLAY
TRIGGER;VALUE=DATE-TIME:20241010T180000Z
DESCRIPTION:Erinnerung an LeipzJAZZig – Herbstfestival 2024
END:VALARM
END:VEVENT
END:VCALENDAR
