BEGIN:VCALENDAR
VERSION:2.0
PRODID:-//Jazzclub Leipzig e.V. //NONSGML Events //EN
CALSCALE:GREGORIAN
X-WR-CALNAME:Jazzclub Leipzig e.V.
BEGIN:VEVENT
X-CREATED:20240905T084549Z
UID:33519
DTEND;VALUE=DATE:20241020T200000
DTSTART;VALUE=DATE:20241020T180000
DTSTAMP:20260422T131726Z
LOCATION:Die naTo\, Karl-Liebknecht-Straße 46\, 04275 Leipzig
DESCRIPTION:Erst kürzlich wurde Max Löbner mit dem Mitteldeutschen Jazzpreis ausgezeichnet. Nun folgt der Leipziger Jazznachwuchspreis. Warum, das wird er mit seiner Band KLSD an diesem Abend unter Beweis stellen: Von flächig und einfühlsam bis hin zu druckvollem Fusion Rock reicht das von zwei Gitarren flankierte Soundspektrum des Quartetts.
SUMMARY:Verleihung des Leipziger Jazznachwuchspreis der Marion Ermer Stiftung: Max Löbner
ORGANIZER:Jazzclub Leipzig e.V.
URL;VALUE=URI:https://www.jazzclub-leipzig.de/kategorie-jazzclub/verleihung-des-leipziger-jazznachwuchspreis-der-marion-ermer-stiftung-max-loebner/
TRANSP:OPAQUE
BEGIN:VALARM
ACTION:DISPLAY
TRIGGER;VALUE=DATE-TIME:20241020T170000Z
DESCRIPTION:Erinnerung an Verleihung des Leipziger Jazznachwuchspreis der Marion Ermer Stiftung: Max Löbner
END:VALARM
END:VEVENT
END:VCALENDAR
