BEGIN:VCALENDAR
VERSION:2.0
PRODID:-//Jazzclub Leipzig e.V. //NONSGML Events //EN
CALSCALE:GREGORIAN
X-WR-CALNAME:Jazzclub Leipzig e.V.
BEGIN:VEVENT
X-CREATED:20240905T071518Z
UID:33500
DTEND;VALUE=DATE:20241021T190000
DTSTART;VALUE=DATE:20241021T170000
DTSTAMP:20260419T190741Z
LOCATION:Schaubühne Lindenfels\, Grüner Salon \, Karl-Heine-Straße 50\, 04229 Leipzig
DESCRIPTION:Die US-Amerikanerin Wendy Eisenberg ist als Songwriterin und als freie Improvisatorin tätig. Ihr Sound speist sich aus verschiedenen Einflüssen wie Folk, Free Jazz, Avant Pop, Noise Rock sowie Neuer Musik. Doch stets bleibt dabei eine nicht vollends zu fassende begriffliche Leerstelle, die Teil ihrer künstlerischen Aura ist, und die auch ihr brandneues Album »Viewfinder« umgibt.
SUMMARY:Wendy Eisenberg
ORGANIZER:Jazzclub Leipzig e.V.
URL;VALUE=URI:https://www.jazzclub-leipzig.de/kategorie-jazzclub/wendy-eisenberg/
TRANSP:OPAQUE
BEGIN:VALARM
ACTION:DISPLAY
TRIGGER;VALUE=DATE-TIME:20241021T160000Z
DESCRIPTION:Erinnerung an Wendy Eisenberg
END:VALARM
END:VEVENT
END:VCALENDAR
