BEGIN:VCALENDAR
VERSION:2.0
PRODID:-//Jazzclub Leipzig e.V. //NONSGML Events //EN
CALSCALE:GREGORIAN
X-WR-CALNAME:Jazzclub Leipzig e.V.
BEGIN:VEVENT
X-CREATED:20240905T054954Z
UID:33445
DTEND;VALUE=DATE:20241026T003000
DTSTART;VALUE=DATE:20241025T223000
DTSTAMP:20260419T190742Z
LOCATION:WERK 2\, Halle D\, Kochstraße 132\, 04277 Leipzig
DESCRIPTION:Doppelkonzert mit CEL.; In ihrem neuen Soloprojekt kreiert Maika Küster einen höchst zeitgemäßen Sound zwischen Synth Pop, Folk, Indie und Electronica. Mal hell und hoffnungsvoll, mal düster und schwermütig kommen die neun Songs ihres im April veröffentlichten Solodebüts »Holy Noon« daher, die von ihrer warmen, souligen Stimme getragen werden und entfernte Erinnerungen an Künstlerinnen wie Zola Jesus oder Cat Power erwecken.
SUMMARY:MAIKA
ORGANIZER:Jazzclub Leipzig e.V.
URL;VALUE=URI:https://www.jazzclub-leipzig.de/kategorie-jazzclub/maika/
TRANSP:OPAQUE
BEGIN:VALARM
ACTION:DISPLAY
TRIGGER;VALUE=DATE-TIME:20241025T213000Z
DESCRIPTION:Erinnerung an MAIKA
END:VALARM
END:VEVENT
END:VCALENDAR
