BEGIN:VCALENDAR
VERSION:2.0
PRODID:-//Jazzclub Leipzig e.V. //NONSGML Events //EN
CALSCALE:GREGORIAN
X-WR-CALNAME:Jazzclub Leipzig e.V.
BEGIN:VEVENT
X-CREATED:20240830T071846Z
UID:33392
DTEND;VALUE=DATE:20241026T213000
DTSTART;VALUE=DATE:20241026T193000
DTSTAMP:20260419T192738Z
LOCATION:Schauspiel Leipzig\, Bosestraße 1\, 04109 Leipzig
DESCRIPTION:Triplekonzert mit Sylvie Courvoisier & Evan Parker und Embryo. ; Musikalisch stark geprägt von moderner Klassik und europäischer Kammermusik, verbindet die gebürtige Schweizerin Sylvie Courvoisier diesen Traditionsstrang seit ihrem Umzug nach Brooklyn Ende der 1990er Jahre mit den Downtown-Jazzsounds New York Citys. Ihr kaum überhörbares virtuoses Vermögen gipfelt dabei in schier atemberaubendem Feingefühl und musikalischer Vielseitigkeit.
SUMMARY:Sylvie Courvoisier
ORGANIZER:Jazzclub Leipzig e.V.
URL;VALUE=URI:https://www.jazzclub-leipzig.de/kategorie-jazzclub/sylvie-courvoisier/
TRANSP:OPAQUE
BEGIN:VALARM
ACTION:DISPLAY
TRIGGER;VALUE=DATE-TIME:20241026T183000Z
DESCRIPTION:Erinnerung an Sylvie Courvoisier
END:VALARM
END:VEVENT
END:VCALENDAR
