BEGIN:VCALENDAR
VERSION:2.0
PRODID:-//Jazzclub Leipzig e.V. //NONSGML Events //EN
CALSCALE:GREGORIAN
X-WR-CALNAME:Jazzclub Leipzig e.V.
BEGIN:VEVENT
X-CREATED:20240829T122707Z
UID:33352
DTEND;VALUE=DATE:20240927T220000
DTSTART;VALUE=DATE:20240927T200000
DTSTAMP:20260422T092717Z
LOCATION:Kulturhof Gohlis
DESCRIPTION:Die deutsch-französische Sängerin und Komponistin präsentiert das Debüt ihres Quartetts, das auf Double Moon Records in der Reihe »Jazz Thing Next Generation« im August 2024 veröffentlicht wird • VVK 10/15 […]
SUMMARY:Nora Benamara Quartett – Debüt Release Konzert
ORGANIZER:Jazzclub Leipzig e.V.
URL;VALUE=URI:https://www.jazzclub-leipzig.de/kategorie-jazzkalender/nora-benamara-quartett-debuet-release-konzert/
TRANSP:OPAQUE
BEGIN:VALARM
ACTION:DISPLAY
TRIGGER;VALUE=DATE-TIME:20240927T190000Z
DESCRIPTION:Erinnerung an Nora Benamara Quartett – Debüt Release Konzert
END:VALARM
END:VEVENT
END:VCALENDAR
