BEGIN:VCALENDAR
VERSION:2.0
PRODID:-//Jazzclub Leipzig e.V. //NONSGML Events //EN
CALSCALE:GREGORIAN
X-WR-CALNAME:Jazzclub Leipzig e.V.
BEGIN:VEVENT
X-CREATED:20240829T121943Z
UID:33346
DTEND;VALUE=DATE:20240927T220000
DTSTART;VALUE=DATE:20240927T200000
DTSTAMP:20260424T155922Z
LOCATION:Horns Erben
DESCRIPTION:Leonida kreiert in ihren Eigenkompositionen einen einzigartigen Stil, der modernen Jazz, Pop, elektronische Musik und Musical miteinander verbindet. Auf ihrem aktuellen Album »Everlasting (What Will Remain)« fragen sich die Musiker*innen, […]
SUMMARY:Leonida
ORGANIZER:Jazzclub Leipzig e.V.
URL;VALUE=URI:https://www.jazzclub-leipzig.de/kategorie-jazzkalender/leonida/
TRANSP:OPAQUE
BEGIN:VALARM
ACTION:DISPLAY
TRIGGER;VALUE=DATE-TIME:20240927T190000Z
DESCRIPTION:Erinnerung an Leonida
END:VALARM
END:VEVENT
END:VCALENDAR
