BEGIN:VCALENDAR
VERSION:2.0
PRODID:-//Jazzclub Leipzig e.V. //NONSGML Events //EN
CALSCALE:GREGORIAN
X-WR-CALNAME:Jazzclub Leipzig e.V.
BEGIN:VEVENT
X-CREATED:20240829T120747Z
UID:33335
DTEND;VALUE=DATE:20240925T220000
DTSTART;VALUE=DATE:20240925T200000
DTSTAMP:20260424T153306Z
LOCATION:Horns Erben
DESCRIPTION:Die drei Musiker*innen experimentieren mit den Kompositionen des Gitaristen Zheng mit einer gewissen Punk Attitüde. Sie bezeichnet selber ihre Musik als Post Avantgarde Jazz. Tara Sarter (sax), Buchuan Zheng (git, […]
SUMMARY:Running Nose
ORGANIZER:Jazzclub Leipzig e.V.
URL;VALUE=URI:https://www.jazzclub-leipzig.de/kategorie-jazzkalender/running-nose/
TRANSP:OPAQUE
BEGIN:VALARM
ACTION:DISPLAY
TRIGGER;VALUE=DATE-TIME:20240925T190000Z
DESCRIPTION:Erinnerung an Running Nose
END:VALARM
END:VEVENT
END:VCALENDAR
