BEGIN:VCALENDAR
VERSION:2.0
PRODID:-//Jazzclub Leipzig e.V. //NONSGML Events //EN
CALSCALE:GREGORIAN
X-WR-CALNAME:Jazzclub Leipzig e.V.
BEGIN:VEVENT
X-CREATED:20240829T120448Z
UID:33330
DTEND;VALUE=DATE:20240921T220000
DTSTART;VALUE=DATE:20240921T200000
DTSTAMP:20260424T153843Z
LOCATION:Jazzclub Tonne\, Dresden
DESCRIPTION:Nach fünfzehn Jahren als Trio haben sich die Musiker nun zu einer Erweiterung entschlossen und laden ausgewählte Gäste in die Band ein. In der aktuellen Konzertreihe teilen sie sich mit […]
SUMMARY:Lamel Lauer Spallati feat. Antonia Hausmann
ORGANIZER:Jazzclub Leipzig e.V.
URL;VALUE=URI:https://www.jazzclub-leipzig.de/kategorie-jazzkalender/lamel-lauer-spallati-feat-antonia-hausmann/
TRANSP:OPAQUE
BEGIN:VALARM
ACTION:DISPLAY
TRIGGER;VALUE=DATE-TIME:20240921T190000Z
DESCRIPTION:Erinnerung an Lamel Lauer Spallati feat. Antonia Hausmann
END:VALARM
END:VEVENT
END:VCALENDAR
