BEGIN:VCALENDAR
VERSION:2.0
PRODID:-//Jazzclub Leipzig e.V. //NONSGML Events //EN
CALSCALE:GREGORIAN
X-WR-CALNAME:Jazzclub Leipzig e.V.
BEGIN:VEVENT
X-CREATED:20240829T115053Z
UID:33316
DTEND;VALUE=DATE:20240918T220000
DTSTART;VALUE=DATE:20240918T200000
DTSTAMP:20260424T171916Z
LOCATION:Horns Erben
DESCRIPTION:Manchmal trifft einen die Musik wie ein Blitzschlag. Peter Somuah hatte im Alter von 14 Jahren so einen Moment, als er durch den Tipp eines Freundes auf die Musik von Miles Davis und Roy Hargrove stieß.
SUMMARY:Peter Somuah Group
ORGANIZER:Jazzclub Leipzig e.V.
URL;VALUE=URI:https://www.jazzclub-leipzig.de/kategorie-jazzkalender/peter-somuah-group/
TRANSP:OPAQUE
BEGIN:VALARM
ACTION:DISPLAY
TRIGGER;VALUE=DATE-TIME:20240918T190000Z
DESCRIPTION:Erinnerung an Peter Somuah Group
END:VALARM
END:VEVENT
END:VCALENDAR
