BEGIN:VCALENDAR
VERSION:2.0
PRODID:-//Jazzclub Leipzig e.V. //NONSGML Events //EN
CALSCALE:GREGORIAN
X-WR-CALNAME:Jazzclub Leipzig e.V.
BEGIN:VEVENT
X-CREATED:20240829T114304Z
UID:33308
DTEND;VALUE=DATE:20240913T220000
DTSTART;VALUE=DATE:20240913T200000
DTSTAMP:20260422T105943Z
LOCATION:die naTo
DESCRIPTION:Die Band bewegt sich zwischen Rock, Beat Poetry Performance und Klavier-Trio-Ästhetik. Die Bandleaderin Anne Munka nutzt Gedichte, Essays und Reden, um Lyrics in einen zeitgenössischen und relevanten Jazzkontext zu setzen. […]
SUMMARY:Pauline Réage
ORGANIZER:Jazzclub Leipzig e.V.
URL;VALUE=URI:https://www.jazzclub-leipzig.de/kategorie-jazzkalender/pauline-reage-3/
TRANSP:OPAQUE
BEGIN:VALARM
ACTION:DISPLAY
TRIGGER;VALUE=DATE-TIME:20240913T190000Z
DESCRIPTION:Erinnerung an Pauline Réage
END:VALARM
END:VEVENT
END:VCALENDAR
