BEGIN:VCALENDAR
VERSION:2.0
PRODID:-//Jazzclub Leipzig e.V. //NONSGML Events //EN
CALSCALE:GREGORIAN
X-WR-CALNAME:Jazzclub Leipzig e.V.
BEGIN:VEVENT
X-CREATED:20240829T112721Z
UID:33299
DTEND;VALUE=DATE:20240912T230000
DTSTART;VALUE=DATE:20240912T210000
DTSTAMP:20260424T192401Z
LOCATION:Zigzag Jazzclub\, Berlin
DESCRIPTION:Phillip Dornbuschs Projektor wird von der FAZ als »juvenile Höhenflieger der Deutschen Szene« bezeichnet. Nachdem ihr letztes Album als »Album des Jahres« für den Deutschen Jazzpreis nominiert war, veröffentlicht die […]
SUMMARY:Philip Dornbusch Projektor
ORGANIZER:Jazzclub Leipzig e.V.
URL;VALUE=URI:https://www.jazzclub-leipzig.de/kategorie-jazzkalender/philip-dornbusch-projektor/
TRANSP:OPAQUE
BEGIN:VALARM
ACTION:DISPLAY
TRIGGER;VALUE=DATE-TIME:20240912T200000Z
DESCRIPTION:Erinnerung an Philip Dornbusch Projektor
END:VALARM
END:VEVENT
END:VCALENDAR
