BEGIN:VCALENDAR
VERSION:2.0
PRODID:-//Jazzclub Leipzig e.V. //NONSGML Events //EN
CALSCALE:GREGORIAN
X-WR-CALNAME:Jazzclub Leipzig e.V.
BEGIN:VEVENT
X-CREATED:20240829T110920Z
UID:33281
DTEND;VALUE=DATE:20240906T200000
DTSTART;VALUE=DATE:20240906T180000
DTSTAMP:20260424T174634Z
LOCATION: MDR-Studio am Augustusplatz
DESCRIPTION:An diesem Konzertabend sind Mitglieder des MDR-Sinfonieorchesters zusammen mit dem Duo Stiehler/Lucaciu mit Arrangements von Andres Reukauf und Peter Lawrence zu erleben. Sie erzählen die Geschichten des Alltags, die auf […]
SUMMARY:MDR-Studiokonzert „Neue Flüge“
ORGANIZER:Jazzclub Leipzig e.V.
URL;VALUE=URI:https://www.jazzclub-leipzig.de/kategorie-jazzkalender/mdr-studiokonzert-neue-fluege/
TRANSP:OPAQUE
BEGIN:VALARM
ACTION:DISPLAY
TRIGGER;VALUE=DATE-TIME:20240906T170000Z
DESCRIPTION:Erinnerung an MDR-Studiokonzert &#8222\;Neue Flüge&#8220\;
END:VALARM
END:VEVENT
END:VCALENDAR
