BEGIN:VCALENDAR
VERSION:2.0
PRODID:-//Jazzclub Leipzig e.V. //NONSGML Events //EN
CALSCALE:GREGORIAN
X-WR-CALNAME:Jazzclub Leipzig e.V.
BEGIN:VEVENT
X-CREATED:20240829T102653Z
UID:33277
DTEND;VALUE=DATE:20240905T210000
DTSTART;VALUE=DATE:20240905T190000
DTSTAMP:20260424T174120Z
LOCATION:Zigzag Jazzclub\, Berlin
DESCRIPTION:Bei diesem, seinem inzwischen dritten Konzert im ZigZag, präsentiert Wilkins sein drittes Album »The 7th Hand«, welches am 11.10. auf Blue Note Records erscheinen wird • Immanuel Wilkins (asax), Micah […]
SUMMARY:Immanuel Wilkins Quartett
ORGANIZER:Jazzclub Leipzig e.V.
URL;VALUE=URI:https://www.jazzclub-leipzig.de/kategorie-jazzkalender/immanuel-wilkins-quartett/
TRANSP:OPAQUE
BEGIN:VALARM
ACTION:DISPLAY
TRIGGER;VALUE=DATE-TIME:20240905T180000Z
DESCRIPTION:Erinnerung an Immanuel Wilkins Quartett
END:VALARM
END:VEVENT
END:VCALENDAR
