BEGIN:VCALENDAR
VERSION:2.0
PRODID:-//Jazzclub Leipzig e.V. //NONSGML Events //EN
CALSCALE:GREGORIAN
X-WR-CALNAME:Jazzclub Leipzig e.V.
BEGIN:VEVENT
X-CREATED:20240827T150224Z
UID:33234
DTEND;VALUE=DATE:20241022T200000
DTSTART;VALUE=DATE:20241022T180000
DTSTAMP:20260419T224325Z
LOCATION:die naTo\, Karl-Liebknecht-Straße 46\, 04275 Leipzig
DESCRIPTION:Doppelkonzert mit Susi Lotter feat. AIKEN. ; Gerade einmal 23 Jahre jung, formt der Münchener Posaunist Moritz Renner einen Sound, der auf überflüssigen Ballast verzichtet und stattdessen die Essenz des Jazz in den Mittelpunkt stellt. In puncto Stilsicherheit, Virtuosität und Spielfreude steht sein Quintett den Größen des Genres in nichts nach.
SUMMARY:BMW Young Artist Jazz Award: Moritz Renner Group
ORGANIZER:Jazzclub Leipzig e.V.
URL;VALUE=URI:https://www.jazzclub-leipzig.de/kategorie-jazzclub/bmw-young-artist-jazz-award-moritz-renner-group/
TRANSP:OPAQUE
BEGIN:VALARM
ACTION:DISPLAY
TRIGGER;VALUE=DATE-TIME:20241022T170000Z
DESCRIPTION:Erinnerung an BMW Young Artist Jazz Award: Moritz Renner Group
END:VALARM
END:VEVENT
END:VCALENDAR
